Workbook

Sheet Notice
A1: Notice d'utilisation
A2: 🔒 Sécurité & Protection
A3: Toutes les feuilles sont verrouillées afin d’éviter les erreurs. ➡️ Pour déverrouiller : Révision > Ôter la protection (aucun mot de passe requis). ⚠️ Reverrouillez après vos modifications pour préserver les calculs.
A8: 🗂️ Structure du document
A9: Section | C9: Contenu
A10: 1️⃣ Table des matières | C10: Navigation rapide entre les feuilles
A11: 2️⃣ Matières premières | C11: Ingrédients, coûts, fournisseurs
A12: 3️⃣ Recettes & Prix de revient | C12: Liste ingrédients + calcul automatique du coût
A13: 4️⃣ Synthèse des marges | C13: Vue globale : coût, prix de vente, marge
A14: 5️⃣ Paramètres | C14: Variables globales (TVA, coefficients)
A16: 🆕 Créer un nouveau produit
A17: 1️⃣ Allez sur l'onglet "Automatisation" dans le ruban supérieur. toucher " Tous les Scripts" et exécutez le script "nouvelle page". Le script créera une nouvelle page et une ligne dans la feuille "Synthèse des marges". 2️⃣ Allez dans la feuille "Synthèse des marges" et donnez un nom à votre nouveau produit. La page se renommera automatiquement. 3️⃣ Dans la nouvelle feuille produit : • Remplacez les ingrédients. • Vérifiez l’orthographe exacte. • Ajustez les quantités. 4️⃣ Les coûts & marges se recalculent automatiquement ✅.
A25: ⚠️ Points critiques : • Orthographe exacte des ingrédients = clé pour les calculs. • Respecter les unités (ml, g, pièce). • Ne pas modifier les cellules grisées/verrouillées.
A30: ✅ Contrôles qualité
A31: ☑ Produit présent dans la synthèse ☑ Pas d’erreurs (#N/A, #REF!) ☑ Ingrédients valides dans la base ☑ Prix de vente cohérent avec paramètres ☑ Marge positive ☑ Feuilles reverrouillées après modification
A37: 🗃️ Maintenance des données
A38: • Mettre à jour les prix fournisseurs dans *Matières premières*. • Ajuster TVA et coefficients dans *Paramètres*. • Sauvegarder une copie mensuelle du fichier. • Reverrouiller les feuilles sensibles après modification.
A43: Notice
A45: 1. La configuration initiale
A46: Pour commencer à utiliser le fichier, vous devez d'abord configurer vos données de base.
A48: Feuille "Paramètres"
A49: Ouvrez cette feuille pour définir vos paramètres généraux :
... A85: Mise à jour régulière : Pour des calculs précis, mettez à jour régulièrement le prix de vos matières premières dans la feuille dédiée.

Sheet Table des matières
C7: Table des matières
B10: Paramètres
B11: Matières premières
B12: Café crème
B13: Cappuccino
B14: Café au lait
B15: Ice coffee
B16: Doppio
B17: Latte macchiato
B18: Matcha latte
B19: Matcha

Sheet Matières premières
A1: roduit brute
A4: Charge | B4: pour 1000 | C4: Prix pour 1000 | D4: Fournisseur | F4: unité par café standar | H4: Cout pour 1
A6: Café Utopia | B6: 1000 | C6: 31 | D6: Utopia | F6: 8 | H6: =C6/B6 -> 0.031
A7: Café Torpedo | B7: 1000 | C7: 28 | D7: Torpedo | F7: 8 | H7: =C7/B7 -> 0.028
A8: Lait | B8: 1000 | C8: 1.2 | D8: Transgourmets | F8: 120 | H8: =C8/B8 -> 0.0012
A9: Sucre | B9: 1000 | C9: 10 | D9: Transgourmets | F9: 5 | H9: =C9/B9 -> 0.01
A10: Créme | B10: 1000 | C10: 146.5 | D10: Transgourmets | F10: 12 | H10: =C10/B10 -> 0.1465
A11: sirop de canne | B11: 1000 | C11: 5.2 | D11: Morand | F11: 10 | H11: =C11/B11 -> 0.0052
A12: sirop | B12: 1000 | C12: 5.1 | D12: Morand | F12: 40 | H12: =C12/B12 -> 0.0051
A13: Sirop aromatisé | B13: 1000 | C13: 5.2 | D13: Morand | F13: 10 | H13: =C13/B13 -> 0.0052
A14: serviette | B14: 1000 | C14: 5 | D14: RMC | F14: 1 | H14: =C14/B14 -> 0.005
A15: touyette | B15: 1000 | C15: 4 | D15: Transgourmets | F15: 1 | H15: =C15/B15 -> 0.004
A16: poudre de chocolat | B16: 1000 | C16: 20 | D16: Marta choclat | F16: 40 | H16: =C16/B16 -> 0.02
A17: goblet en carton | B17: 1000 | C17: 78.5 | D17: just green | F17: 1 | H17: =C17/B17 -> 0.0785
A18: paille | B18: 1000 | C18: 2.5 | D18: Transgourmets | F18: 1 | H18: =C18/B18 -> 0.0025
A19: Glacon | B19: 1 | C19: 0 | F19: 0 | H19: =C19/B19 -> 0
A20: Matcha | B20: 1000 | C20: 390 | D20: touthé | F20: 2 | H20: =C20/B20 -> 0.39
A21: Eau | B21: 1 | C21: 0 | F21: 0 | H21: =C21/B21 -> 0
A22: Pistache | D22: Transgourmets | H22: 0
A23: Crème fraiche | B23: 1000 | C23: 8.8 | D23: Transgourmets | F23: 25 | H23: =C23/B23 -> 0.0088
A24: Charge fixe
A27: Charge fixe | C27: Cout mensuel | D27: Cout annuel | F27: estimation de vente | H27: charge
A29: Loyer | C29: 1500 | D29: =C29*12 -> 18000 | F29: ='synthèse des marges'!J19 -> 3200 | H29: =ROUND(C29/F29,2) -> 0.47
A30: charge locative | C30: 200 | D30: =C30*12 -> 2400 | F30: =IF(A30<>"",F29,"") -> 3200 | H30: =ROUND(C30/F30,2) -> 0.06
A31: elécticité | C31: 200 | D31: =C31*12 -> 2400 | F31: =IF(A31<>"",F30,"") -> 3200 | H31: =ROUND(C31/F31,2) -> 0.06
A32: salaire | C32: 6000 | D32: =C32*12 -> 72000 | F32: =IF(A32<>"",F31,"") -> 3200 | H32: =ROUND(C32/F32,2) -> 1.88
A33: Charge salarial | C33: 400 | D33: =C33*12 -> 4800 | F33: =IF(A33<>"",F32,"") -> 3200 | H33: =ROUND(C33/F33,2) -> 0.13
A34: Leasing machine a café | C34: 100 | D34: =C34*12 -> 1200 | F34: =IF(A34<>"",F33,"") -> 3200 | H34: =ROUND(C34/F34,2) -> 0.03
A35: Amotissement | C35: 50 | D35: =C35*12 -> 600 | F35: =IF(A35<>"",F34,"") -> 3200 | H35: =ROUND(C35/F35,2) -> 0.02
A36: entretien materiel | C36: 50 | D36: =C36*12 -> 600 | F36: =IF(A36<>"",F35,"") -> 3200 | H36: =ROUND(C36/F36,2) -> 0.02
A37: comptabilité | C37: 100 | D37: =C37*12 -> 1200 | F37: =IF(A37<>"",F36,"") -> 3200 | H37: =ROUND(C37/F37,2) -> 0.03
A38: frais banquaire | C38: =(Paramètres!B6 + Paramètres!B7/2) * 'synthèse des marges'!K19/100 -> 276.526 | D38: =C38*12 -> 3318.312 | F38: =IF(A38<>"",F37,"") -> 3200 | H38: =ROUND(C38/F38,2) -> 0.09
A39: Marketing | C39: 72 | D39: =C39*12 -> 864 | F39: =IF(A39<>"",F38,"") -> 3200 | H39: =ROUND(C39/F39,2) -> 0.02
A40: Abonement | C40: 100 | D40: =C40*12 -> 1200 | F40: =IF(A40<>"",F39,"") -> 3200 | H40: =ROUND(C40/F40,2) -> 0.03
A41: Perte | C41: 72 | D41: =C41*12 -> 864 | F41: =IF(A41<>"",F40,"") -> 3200 | H41: =ROUND(C41/F41,2) -> 0.02
D42: =IF(C42<>"",C42*12,"") | F42: =IF(A42<>"",F41,"") | H42: =IFERROR(ROUND(C42/F42,2),"")
D43: =IF(B43<>"",C43*12,"") | F43: =IF(A43<>"",F42,"")
D44: =IF(B44<>"",C44*12,"") | F44: =IF(A44<>"",F43,"")
D45: =IF(B45<>"",C45*12,"") | F45: =IF(A45<>"",F44,"")
D46: =IF(B46<>"",C46*12,"") | F46: =IF(A46<>"",F45,"")
...

Sheet Café crème
A1: ='synthèse des marges'!A4 -> Café créme
A5: =Paramètres!B3 -> 45970
A6: Matière première | B6: Pour 1 unité | C6: Quantité par café | D6: Unité | E6: Coût unitaire
A8: Café Torpedo | B8: =_xlfn.XLOOKUP('Café crème'!A8, 'Matières premières'!$A$4:$A$21, 'Matières premières'!$H$4:$H$21) -> 0.028 | C8: 16 | D8: g | E8: =B8*C8 -> 0.448
A9: Créme | B9: =_xlfn.XLOOKUP('Café crème'!A9, 'Matières premières'!$A$4:$A$21, 'Matières premières'!$H$4:$H$21) -> 0.1465 | C9: 1 | D9: g | E9: =B9*C9 -> 0.1465
A10: Sucre | B10: =_xlfn.XLOOKUP('Café crème'!A10, 'Matières premières'!$A$4:$A$21, 'Matières premières'!$H$4:$H$21) -> 0.01 | C10: 5 | D10: g | E10: =B10*C10 -> 0.05
B11: =_xlfn.XLOOKUP('Café crème'!A11, 'Matières premières'!$A$4:$A$21, 'Matières premières'!$H$4:$H$21) -> 0 | E11: =B11*C11 -> 0
A12: Total matiere premiere | E12: =SUM(E8:E11) -> 0.6445
A14: Charge fixe | E14: ='Matières premières'!H50 -> 2.84
A16: PRIX DE REVIENT | E16: =E12+E14 -> 3.4845
A17: PRIX DE VENTE | E17: 3.6
A18: BÉNÉFICE BRUT | E18: =ROUND(E17-E16,1) -> 0.1
A19: MARGE BRUTE (%) | E19: =(E18/E16) -> 0.028698522
A21: Prix pour une marge a 50% | E21: =IF(OR(E19>50%,E17<-50%),"",E16+(0.5*E16)) -> 5.22675

Sheet Cappuccino
A1: ='synthèse des marges'!A5 -> Cappuccino
A6: Matière première | B6: Pour 1 unité | C6: Quantité par café | D6: Unité | E6: Coût unitaire
A8: Café Utopia | B8: =_xlfn.XLOOKUP(Cappuccino!A8, 'Matières premières'!$A$4:$A$21, 'Matières premières'!$H$4:$H$21) -> 0.031 | C8: 16 | D8: g | E8: =B8*C8 -> 0.496
A9: Lait | B9: =_xlfn.XLOOKUP(Cappuccino!A9, 'Matières premières'!$A$4:$A$21, 'Matières premières'!$H$4:$H$21) -> 0.0012 | C9: 120 | E9: =B9*C9 -> 0.144
A10: Sucre | B10: =_xlfn.XLOOKUP(Cappuccino!A10, 'Matières premières'!$A$4:$A$21, 'Matières premières'!$H$4:$H$21) -> 0.01 | C10: 5 | E10: =B10*C10 -> 0.05
A11: Poudre de chocolat | B11: =_xlfn.XLOOKUP(Cappuccino!A11, 'Matières premières'!$A$4:$A$21, 'Matières premières'!$H$4:$H$21) -> 0.02 | C11: 10 | E11: =B11*C11 -> 0.2
A12: Total matiere premiere | E12: =SUM(E8:E11) -> 0.89
A14: Charge fixe | E14: ='Matières premières'!H50 -> 2.84
A16: PRIX DE REVIENT | E16: =E12+E14 -> 3.73
A17: PRIX DE VENTE | E17: 4.3
A18: BÉNÉFICE BRUT | E18: =E17-E16 -> 0.57
A19: MARGE BRUTE (%) | E19: =(E18/E16) -> 0.15281501
A21: Prix pour une marge a 50% | E21: =IF(OR(E19>50%,E17<-50%),"",E16+(0.5*E16)) -> 5.595

Sheet Café au lait
A1: ='synthèse des marges'!A6 -> Renversé/café au lait
A6: Matière première | B6: Pour 1 unité | C6: Quantité par café | D6: Unité | E6: Coût unitaire
A8: Café Utopia | B8: =_xlfn.XLOOKUP('Café au lait'!A8, 'Matières premières'!$A$4:$A$21, 'Matières premières'!$H$4:$H$21) -> 0.031 | C8: 16 | D8: g | E8: =B8*C8 -> 0.496
A9: Lait | B9: =_xlfn.XLOOKUP('Café au lait'!A9, 'Matières premières'!$A$4:$A$21, 'Matières premières'!$H$4:$H$21) -> 0.0012 | C9: 150 | E9: =B9*C9 -> 0.18
A10: Sucre | B10: =_xlfn.XLOOKUP('Café au lait'!A10, 'Matières premières'!$A$4:$A$21, 'Matières premières'!$H$4:$H$21) -> 0.01 | C10: 5 | E10: =B10*C10 -> 0.05
B11: =_xlfn.XLOOKUP('Café au lait'!A11, 'Matières premières'!$A$4:$A$21, 'Matières premières'!$H$4:$H$21) -> 0 | E11: =B11*C11 -> 0
A12: Total matiere premiere | E12: =SUM(E8:E11) -> 0.726
A14: Charge fixe | E14: ='Matières premières'!H50 -> 2.84
A16: PRIX DE REVIENT | E16: =E12+E14 -> 3.566
A17: PRIX DE VENTE | E17: 4
A18: BÉNÉFICE BRUT | E18: =E17-E16 -> 0.434
A19: MARGE BRUTE (%) | E19: =(E18/E16) -> 0.12170499
A21: Prix pour une marge a 50% | E21: =IF(OR(E19>50%,E17<-50%),"",E16+(0.5*E16)) -> 5.349

Sheet Ice coffee
A1: ='synthèse des marges'!$A$7 -> ice coffe latte | F1: ='synthèse des marges'!$A$7 -> ice coffe latte | K1: ='synthèse des marges'!$A$7 -> ice coffe latte
E5: 3Dl | J5: 4Dl | O5: 5Dl
A6: Matière première | B6: Pour 1 unité | C6: Quantité par café | D6: Unité | E6: Coût unitaire | F6: Matière première | G6: Pour 1 unité | H6: Quantité par café | I6: Unité | J6: Coût unitaire | K6: Matière première | L6: Pour 1 unité | M6: Quantité par café | N6: Unité | O6: Coût unitaire
A8: Café Utopia | B8: =_xlfn.XLOOKUP('Ice coffee'!A8, 'Matières premières'!$A$4:$A$21, 'Matières premières'!$H$4:$H$21) -> 0.031 | C8: 16 | D8: g | E8: =B8*C8 -> 0.496 | F8: Café Utopia | G8: =_xlfn.XLOOKUP('Ice coffee'!A8, 'Matières premières'!$A$4:$A$21, 'Matières premières'!$H$4:$H$21) -> 0.031 | H8: 16 | I8: g | J8: =G8*H8 -> 0.496 | K8: Café Utopia | L8: =_xlfn.XLOOKUP('Ice coffee'!A8, 'Matières premières'!$A$4:$A$21, 'Matières premières'!$H$4:$H$21) -> 0.031 | M8: 16 | N8: g | O8: =L8*M8 -> 0.496
A9: Lait | B9: =_xlfn.XLOOKUP('Ice coffee'!A9, 'Matières premières'!$A$4:$A$21, 'Matières premières'!$H$4:$H$21) -> 0.0012 | C9: 300 | E9: =B9*C9 -> 0.36 | F9: Lait | G9: =_xlfn.XLOOKUP('Ice coffee'!A9, 'Matières premières'!$A$4:$A$21, 'Matières premières'!$H$4:$H$21) -> 0.0012 | H9: 400 | J9: =G9*H9 -> 0.48 | K9: Lait | L9: =_xlfn.XLOOKUP('Ice coffee'!A9, 'Matières premières'!$A$4:$A$21, 'Matières premières'!$H$4:$H$21) -> 0.0012 | M9: 500 | O9: =L9*M9 -> 0.6
A10: Sirop de canne | B10: =_xlfn.XLOOKUP('Ice coffee'!A10, 'Matières premières'!$A$4:$A$21, 'Matières premières'!$H$4:$H$21) -> 0.0052 | C10: 10 | E10: =B10*C10 -> 0.052 | F10: Sirop de canne | G10: =_xlfn.XLOOKUP('Ice coffee'!A10, 'Matières premières'!$A$4:$A$21, 'Matières premières'!$H$4:$H$21) -> 0.0052 | H10: 10 | J10: =G10*H10 -> 0.052 | K10: Sirop de canne | L10: =_xlfn.XLOOKUP('Ice coffee'!A10, 'Matières premières'!$A$4:$A$21, 'Matières premières'!$H$4:$H$21) -> 0.0052 | M10: 10 | O10: =L10*M10 -> 0.052
A11: Glacon | B11: =_xlfn.XLOOKUP('Ice coffee'!A11, 'Matières premières'!$A$4:$A$21, 'Matières premières'!$H$4:$H$21) -> 0 | E11: =B11*C11 -> 0 | F11: Glacon | G11: =_xlfn.XLOOKUP('Ice coffee'!A11, 'Matières premières'!$A$4:$A$21, 'Matières premières'!$H$4:$H$21) -> 0 | J11: =G11*H11 -> 0 | K11: Glacon | L11: =_xlfn.XLOOKUP('Ice coffee'!A11, 'Matières premières'!$A$4:$A$21, 'Matières premières'!$H$4:$H$21) -> 0 | O11: =L11*M11 -> 0
A12: Total matiere premiere | E12: =SUM(E8:E11) -> 0.908 | F12: Total matiere premiere | J12: =SUM(J8:J11) -> 1.028 | K12: Total matiere premiere | O12: =SUM(O8:O11) -> 1.148
A14: Charge fixe | E14: ='Matières premières'!$H$50 -> 2.84 | F14: Charge fixe | J14: ='Matières premières'!$H$50 -> 2.84 | K14: Charge fixe | O14: ='Matières premières'!$H$50 -> 2.84
A16: PRIX DE REVIENT | E16: =E12+E14 -> 3.748 | F16: PRIX DE REVIENT | J16: =J12+J14 -> 3.868 | K16: PRIX DE REVIENT | O16: =O12+O14 -> 3.988
A17: PRIX DE VENTE | E17: 4.5 | F17: PRIX DE VENTE | J17: 5.5 | K17: PRIX DE VENTE | O17: 6
A18: BÉNÉFICE BRUT | E18: =E17-E16 -> 0.752 | F18: BÉNÉFICE BRUT | J18: =J17-J16 -> 1.632 | K18: BÉNÉFICE BRUT | O18: =O17-O16 -> 2.012
A19: MARGE BRUTE (%) | E19: =(E18/E16) -> 0.20064034 | F19: MARGE BRUTE (%) | J19: =(J18/J16) -> 0.42192347 | K19: MARGE BRUTE (%) | O19: =(O18/O16) -> 0.50451354
A21: Prix pour une marge a 50% | E21: =IF(OR(E19>50%,),"",E16+(0.5*E16)) -> 5.622 | F21: Prix pour une marge a 50% | J21: =IF(OR(J19>50%,J17<-50%),"",J16+(0.5*J16)) -> 5.802 | O21: =IF(OR(O19>50%,O17<-50%),"",O16+(0.5*O16))

Sheet Doppio
A1: ='synthèse des marges'!A10 -> Doppio
A6: Matière première | B6: Pour 1 unité | C6: Quantité par café | D6: Unité | E6: Coût unitaire
A8: Café torpedo | B8: =_xlfn.XLOOKUP(Doppio!A8, 'Matières premières'!$A$4:$A$21, 'Matières premières'!$H$4:$H$21) -> 0.028 | C8: 16 | D8: g | E8: =B8*C8 -> 0.448
A9: Sucre | B9: =_xlfn.XLOOKUP(Doppio!A9, 'Matières premières'!$A$4:$A$21, 'Matières premières'!$H$4:$H$21) -> 0.01 | C9: 5 | E9: =B9*C9 -> 0.05
A10: créme | B10: =_xlfn.XLOOKUP(Doppio!A10, 'Matières premières'!$A$4:$A$21, 'Matières premières'!$H$4:$H$21) -> 0.1465 | C10: 1 | E10: =B10*C10 -> 0.1465
B11: =_xlfn.XLOOKUP(Doppio!A11, 'Matières premières'!$A$4:$A$21, 'Matières premières'!$H$4:$H$21) -> 0 | E11: =B11*C11 -> 0
A12: Total matiere premiere | E12: =SUM(E8:E11) -> 0.6445
A14: Charge fixe | E14: ='Matières premières'!H50 -> 2.84
A16: PRIX DE REVIENT | E16: =E12+E14 -> 3.4845
A17: PRIX DE VENTE | E17: 4.3
A18: BÉNÉFICE BRUT | E18: =E17-E16 -> 0.8155
A19: MARGE BRUTE (%) | E19: =(E18/E16) -> 0.23403645
A21: Prix pour une marge a 50% | E21: =IF(OR(E19>50%,E17<-50%),"",E16+(0.5*E16)) -> 5.22675

Sheet Latte macchiato
A1: ='synthèse des marges'!A11 -> Latte Macchiato
A6: Matière première | B6: Pour 1 unité | C6: Quantité par café | D6: Unité | E6: Coût unitaire
A8: Café utopia | B8: =_xlfn.XLOOKUP('Latte macchiato'!A8, 'Matières premières'!$A$4:$A$21, 'Matières premières'!$H$4:$H$21) -> 0.031 | C8: 8 | D8: g | E8: =B8*C8 -> 0.248
A9: Sucre | B9: =_xlfn.XLOOKUP('Latte macchiato'!A9, 'Matières premières'!$A$4:$A$21, 'Matières premières'!$H$4:$H$21) -> 0.01 | C9: 5 | E9: =B9*C9 -> 0.05
A10: Lait | B10: =_xlfn.XLOOKUP('Latte macchiato'!A10, 'Matières premières'!$A$4:$A$21, 'Matières premières'!$H$4:$H$21) -> 0.0012 | C10: 200 | E10: =B10*C10 -> 0.24
A11: sirop de canne | B11: =_xlfn.XLOOKUP('Latte macchiato'!A11, 'Matières premières'!$A$4:$A$21, 'Matières premières'!$H$4:$H$21) -> 0.0052 | E11: =B11*C11 -> 0
A12: Total matiere premiere | E12: =SUM(E8:E11) -> 0.538
A14: Charge fixe | E14: ='Matières premières'!H50 -> 2.84
A16: PRIX DE REVIENT | E16: =E12+E14 -> 3.378
A17: PRIX DE VENTE | E17: 5
A18: BÉNÉFICE BRUT | E18: =E17-E16 -> 1.622
A19: MARGE BRUTE (%) | E19: =(E18/E16) -> 0.48016578
A21: Prix pour une marge a 50% | E21: =IF(OR(E19>50%,E17<-50%),"",E16+(0.5*E16)) -> 5.067

Sheet Matcha latte
A1: ='synthèse des marges'!$A$12 -> Matcha latte | F1: ='synthèse des marges'!$A$12 -> Matcha latte | K1: ='synthèse des marges'!$A$12 -> Matcha latte
A6: Matière première | B6: Pour 1 unité | C6: Quantité par café | D6: Unité | E6: Coût unitaire | F6: Matière première | G6: Pour 1 unité | H6: Quantité par café | I6: Unité | J6: Coût unitaire | K6: Matière première | L6: Pour 1 unité | M6: Quantité par café | N6: Unité | O6: Coût unitaire
A8: Matcha | B8: =_xlfn.XLOOKUP('Matcha latte'!A8, 'Matières premières'!$A$4:$A$21, 'Matières premières'!$H$4:$H$21) -> 0.39 | C8: 2 | D8: g | E8: =B8*C8 -> 0.78 | F8: Matcha | G8: =_xlfn.XLOOKUP('Matcha latte'!A8, 'Matières premières'!$A$4:$A$21, 'Matières premières'!$H$4:$H$21) -> 0.39 | H8: 2 | I8: g | J8: =G8*H8 -> 0.78 | K8: Matcha | L8: =_xlfn.XLOOKUP('Matcha latte'!A8, 'Matières premières'!$A$4:$A$21, 'Matières premières'!$H$4:$H$21) -> 0.39 | M8: 2 | N8: g | O8: =L8*M8 -> 0.78
A9: Sucre | B9: =_xlfn.XLOOKUP('Matcha latte'!$A$9, 'Matières premières'!$A$5:$A$22, 'Matières premières'!$H$5:$H$22) -> 0.01 | C9: 0 | E9: =B9*C9 -> 0 | F9: Sucre | G9: =_xlfn.XLOOKUP('Matcha latte'!A9, 'Matières premières'!$A$4:$A$21, 'Matières premières'!$H$4:$H$21) -> 0.01 | H9: 0 | J9: =G9*H9 -> 0 | K9: Sucre | L9: =_xlfn.XLOOKUP('Matcha latte'!A9, 'Matières premières'!$A$4:$A$21, 'Matières premières'!$H$4:$H$21) -> 0.01 | M9: 0 | O9: =L9*M9 -> 0
A10: Lait | B10: =_xlfn.XLOOKUP('Matcha latte'!$A$10, 'Matières premières'!$A$6:$A$23, 'Matières premières'!$H$6:$H$23) -> 0.0012 | C10: 300 | E10: =B10*C10 -> 0.36 | F10: Lait | G10: =_xlfn.XLOOKUP('Matcha latte'!A10, 'Matières premières'!$A$4:$A$21, 'Matières premières'!$H$4:$H$21) -> 0.0012 | H10: 300 | J10: =G10*H10 -> 0.36 | K10: Lait | L10: =_xlfn.XLOOKUP('Matcha latte'!A10, 'Matières premières'!$A$4:$A$21, 'Matières premières'!$H$4:$H$21) -> 0.0012 | M10: 300 | O10: =L10*M10 -> 0.36
A11: sirop de canne | B11: =_xlfn.XLOOKUP('Matcha latte'!$A$11, 'Matières premières'!$A$7:$A$24, 'Matières premières'!$H$7:$H$24) -> 0.0052 | E11: =B11*C11 -> 0 | F11: sirop de canne | G11: =_xlfn.XLOOKUP('Matcha latte'!A11, 'Matières premières'!$A$4:$A$21, 'Matières premières'!$H$4:$H$21) -> 0.0052 | J11: =G11*H11 -> 0 | K11: sirop de canne | L11: =_xlfn.XLOOKUP('Matcha latte'!A11, 'Matières premières'!$A$4:$A$21, 'Matières premières'!$H$4:$H$21) -> 0.0052 | O11: =L11*M11 -> 0
A12: Total matiere premiere | E12: =SUM(E8:E11) -> 1.14 | F12: Total matiere premiere | J12: =SUM(J8:J11) -> 1.14 | K12: Total matiere premiere | O12: =SUM(O8:O11) -> 1.14
A14: Charge fixe | E14: ='Matières premières'!H50 -> 2.84 | F14: Charge fixe | J14: ='Matières premières'!H50 -> 2.84 | K14: Charge fixe | O14: ='Matières premières'!H50 -> 2.84
A16: PRIX DE REVIENT | E16: =E12+E14 -> 3.98 | F16: PRIX DE REVIENT | J16: =J12+J14 -> 3.98 | K16: PRIX DE REVIENT | O16: =O12+O14 -> 3.98
A17: PRIX DE VENTE | E17: 5 | F17: PRIX DE VENTE | J17: 6 | K17: PRIX DE VENTE | O17: 6.5
A18: BÉNÉFICE BRUT | E18: =E17-E16 -> 1.02 | F18: BÉNÉFICE BRUT | J18: =J17-J16 -> 2.02 | K18: BÉNÉFICE BRUT | O18: =O17-O16 -> 2.52
A19: MARGE BRUTE (%) | E19: =(E18/E16) -> 0.25628141 | F19: MARGE BRUTE (%) | J19: =(J18/J16) -> 0.50753769 | K19: MARGE BRUTE (%) | O19: =(O18/O16) -> 0.63316583
A21: Prix pour une marge a 50% | E21: =IF(OR(E19>50%,E17<-50%),"",E16+(0.5*E16)) -> 5.97 | J21: =IF(OR(J19>50%,J17<-50%),"",J16+(0.5*J16)) | O21: =IF(OR(O19>50%,O17<-50%),"",O16+(0.5*O16))

Sheet Matcha
A1: ='synthèse des marges'!A15 -> Matcha | F1: ='synthèse des marges'!A15 -> Matcha | K1: ='synthèse des marges'!A15 -> Matcha
E5: 3dl | J5: 4dl | O5: 5dl
A6: Matière première | B6: Pour 1 unité | C6: Quantité par café | D6: Unité | E6: Coût unitaire | F6: Matière première | G6: Pour 1 unité | H6: Quantité par café | I6: Unité | J6: Coût unitaire | K6: Matière première | L6: Pour 1 unité | M6: Quantité par café | N6: Unité | O6: Coût unitaire
A8: Matcha | B8: =_xlfn.XLOOKUP(Matcha!A8, 'Matières premières'!$A$4:$A$21, 'Matières premières'!$H$4:$H$21) -> 0.39 | C8: 2 | D8: g | E8: =B8*C8 -> 0.78 | F8: Matcha | G8: =_xlfn.XLOOKUP(Matcha!F8, 'Matières premières'!$A$4:$A$21, 'Matières premières'!$H$4:$H$21) -> 0.39 | H8: 2.3 | I8: g | J8: =G8*H8 -> 0.897 | K8: Matcha | L8: =_xlfn.XLOOKUP(Matcha!K8, 'Matières premières'!$A$4:$A$21, 'Matières premières'!$H$4:$H$21) -> 0.39 | M8: 2.5 | N8: g | O8: =L8*M8 -> 0.975
A9: Eau | B9: =_xlfn.XLOOKUP(Matcha!A9, 'Matières premières'!$A$4:$A$21, 'Matières premières'!$H$4:$H$21) -> 0 | C9: 0 | E9: =B9*C9 -> 0 | F9: Eau | G9: =_xlfn.XLOOKUP(Matcha!F9, 'Matières premières'!$A$4:$A$21, 'Matières premières'!$H$4:$H$21) -> 0 | H9: 0 | J9: =G9*H9 -> 0 | K9: Eau | L9: =_xlfn.XLOOKUP(Matcha!K9, 'Matières premières'!$A$4:$A$21, 'Matières premières'!$H$4:$H$21) -> 0 | M9: 0 | O9: =L9*M9 -> 0
A10: sirop de canne | B10: =_xlfn.XLOOKUP(Matcha!A10, 'Matières premières'!$A$4:$A$21, 'Matières premières'!$H$4:$H$21) -> 0.0052 | E10: =B10*C10 -> 0 | F10: sirop de canne | G10: =_xlfn.XLOOKUP(Matcha!F10, 'Matières premières'!$A$4:$A$21, 'Matières premières'!$H$4:$H$21) -> 0.0052 | J10: =G10*H10 -> 0 | K10: sirop de canne | L10: =_xlfn.XLOOKUP(Matcha!K10, 'Matières premières'!$A$4:$A$21, 'Matières premières'!$H$4:$H$21) -> 0.0052 | O10: =L10*M10 -> 0
A11: Total matiere premiere | E11: =SUM(E8:E10) -> 0.78 | F11: Total matiere premiere | J11: =SUM(J8:J10) -> 0.897 | K11: Total matiere premiere | O11: =SUM(O8:O10) -> 0.975
A13: Charge fixe | E13: ='Matières premières'!H50 -> 2.84 | F13: Charge fixe | J13: ='Matières premières'!H50 -> 2.84 | K13: Charge fixe | O13: ='Matières premières'!H50 -> 2.84
A15: PRIX DE REVIENT | E15: =E11+E13 -> 3.62 | F15: PRIX DE REVIENT | J15: =J11+J13 -> 3.737 | K15: PRIX DE REVIENT | O15: =O11+O13 -> 3.815
A16: PRIX DE VENTE | E16: 5 | F16: PRIX DE VENTE | J16: 6 | K16: PRIX DE VENTE | O16: 6.5
A17: BÉNÉFICE BRUT | E17: =E16-E15 -> 1.38 | F17: BÉNÉFICE BRUT | J17: =J16-J15 -> 2.263 | K17: BÉNÉFICE BRUT | O17: =O16-O15 -> 2.685
A18: MARGE BRUTE (%) | E18: =(E17/E15) -> 0.38121547 | F18: MARGE BRUTE (%) | J18: =(J17/J15) -> 0.60556596 | K18: MARGE BRUTE (%) | O18: =(O17/O15) -> 0.70380079
A20: Prix pour une marge a 50% | E20: =IF(OR(E18>50%,E16<-50%),"",E15+(0.5*E15)) -> 5.43 | J20: =IF(OR(J18>50%,J16<-50%),"",J15+(0.5*J15)) | O20: =IF(OR(O18>50%,O16<-50%),"",O15+(0.5*O15))

Sheet synthèse des marges
A1: Synthèse des marges
A2: total des chargse fixes | D2: ='Matières premières'!H50 -> 2.84
A3: Produit | B3: Coût matière (CHF) | C3: charge toral | D3: Prix de vente | E3: Prix en Euro | F3: Marge brute (CHF) | G3: Taux de marge (%) | H3: TVA (CHF) | I3: Coût matière (CHF) | J3: estimation par mois | K3: chiffre d'affaire | L3: Profit entreprise
A4: Café créme | B4: ='Café crème'!E12 -> 0.6445 | C4: =B4+Paramètres!$B$5 -> 3.4845 | D4: ='Café crème'!E17 -> 3.6 | E4: =D4*Paramètres!$B$2 -> 3.42 | F4: ='Café crème'!E18 -> 0.1 | G4: ='Café crème'!E19 -> 0.028698522 | H4: =D4*I4 -> 0.2916 | I4: =Paramètres!B1 -> 0.081 | J4: 1040 | K4: =SUM(D4*J4) -> 3744 | L4: =F4*J4 -> 104
A5: Cappuccino | B5: =Cappuccino!E12 -> 0.89 | C5: =B5+Paramètres!$B$5 -> 3.73 | D5: =Cappuccino!E17 -> 4.3 | E5: =D5*Paramètres!$B$2 -> 4.085 | F5: =Cappuccino!E18 -> 0.57 | G5: =Cappuccino!E19 -> 0.15281501 | H5: =D5*I5 -> 0.3483 | I5: =Paramètres!B1 -> 0.081 | J5: 500 | K5: =SUM(D5*J5) -> 2150 | L5: =F5*J5 -> 285
A6: Renversé/café au lait | B6: ='Café au lait'!E12 -> 0.726 | C6: =B6+Paramètres!$B$5 -> 3.566 | D6: ='Café au lait'!E17 -> 4 | E6: =D6*Paramètres!$B$2 -> 3.8 | F6: ='Café au lait'!E18 -> 0.434 | G6: ='Café au lait'!E19 -> 0.12170499 | H6: =D6*I6 -> 0.324 | I6: =Paramètres!B1 -> 0.081 | J6: 700 | K6: =SUM(D6*J6) -> 2800 | L6: =F6*J6 -> 303.8
A7: ice coffe latte | B7: ='Ice coffee'!E12 -> 0.908 | C7: =B7+Paramètres!$B$5 -> 3.748 | D7: ='Ice coffee'!E17 -> 4.5 | E7: =D7*Paramètres!$B$2 -> 4.275 | F7: ='Ice coffee'!E18 -> 0.752 | G7: ='Ice coffee'!E19 -> 0.20064034 | H7: =D7*I7 -> 0.3645 | I7: =Paramètres!B1 -> 0.081 | J7: 50 | K7: =SUM(D7*J7) -> 225 | L7: =F7*J7 -> 37.6
A8: ice coffe latte | B8: ='Ice coffee'!J12 -> 1.028 | C8: =B8+Paramètres!$B$5 -> 3.868 | D8: ='Ice coffee'!J17 -> 5.5 | E8: =D8*Paramètres!$B$2 -> 5.225 | F8: ='Ice coffee'!J18 -> 1.632 | G8: ='Ice coffee'!J19 -> 0.42192347 | H8: =D8*I8 -> 0.4455 | I8: =Paramètres!B1 -> 0.081 | J8: 100 | K8: =SUM(D8*J8) -> 550 | L8: =F8*J8 -> 163.2
A9: ice coffe latte | B9: ='Ice coffee'!O12 -> 1.148 | C9: =B9+Paramètres!$B$5 -> 3.988 | D9: ='Ice coffee'!O17 -> 6 | E9: =D9*Paramètres!$B$2 -> 5.7 | F9: ='Ice coffee'!O18 -> 2.012 | G9: ='Ice coffee'!O19 -> 0.50451354 | H9: =D9*I9 -> 0.486 | I9: =Paramètres!B1 -> 0.081 | J9: 250 | K9: =SUM(D9*J9) -> 1500 | L9: =F9*J9 -> 503
A10: Doppio | B10: =Doppio!E12 -> 0.6445 | C10: =B10+Paramètres!$B$5 -> 3.4845 | D10: =Doppio!E17 -> 4.3 | E10: =D10*Paramètres!$B$2 -> 4.085 | F10: =Doppio!E18 -> 0.8155 | G10: =Doppio!E19 -> 0.23403645 | H10: =D10*I10 -> 0.3483 | I10: =Paramètres!B1 -> 0.081 | J10: 100 | K10: =SUM(D10*J10) -> 430 | L10: =F10*J10 -> 81.55
A11: Latte Macchiato | B11: ='Latte macchiato'!E12 -> 0.538 | C11: =B11+Paramètres!$B$5 -> 3.378 | D11: ='Latte macchiato'!E17 -> 5 | E11: =D11*Paramètres!$B$2 -> 4.75 | F11: ='Latte macchiato'!E18 -> 1.622 | G11: ='Latte macchiato'!E19 -> 0.48016578 | H11: =D11*I11 -> 0.405 | I11: =Paramètres!B1 -> 0.081 | J11: 300 | K11: =SUM(D11*J11) -> 1500 | L11: =F11*J11 -> 486.6
A12: Matcha latte | B12: ='Matcha latte'!E12 -> 1.14 | C12: =B12+Paramètres!$B$5 -> 3.98 | D12: ='Matcha latte'!E17 -> 5 | E12: =D12*Paramètres!$B$2 -> 4.75 | F12: ='Matcha latte'!E18 -> 1.02 | G12: ='Matcha latte'!E19 -> 0.25628141 | H12: =D12*I12 -> 0.405 | I12: =Paramètres!B1 -> 0.081 | J12: 30 | K12: =SUM(D12*J12) -> 150 | L12: =F12*J12 -> 30.6
A13: Matcha latte | B13: ='Matcha latte'!E12 -> 1.14 | C13: =B13+Paramètres!$B$5 -> 3.98 | D13: ='Matcha latte'!J17 -> 6 | E13: =D13*Paramètres!$B$2 -> 5.7 | F13: ='Matcha latte'!J18 -> 2.02 | G13: ='Matcha latte'!J19 -> 0.50753769 | H13: =D13*I13 -> 0.486 | I13: =Paramètres!B1 -> 0.081 | J13: 40 | K13: =SUM(D13*J13) -> 240 | L13: =F13*J13 -> 80.8
A14: Matcha latte | B14: ='Matcha latte'!J12 -> 1.14 | C14: =B14+Paramètres!$B$5 -> 3.98 | D14: ='Matcha latte'!O17 -> 6.5 | E14: =D14*Paramètres!$B$2 -> 6.175 | F14: ='Matcha latte'!O18 -> 2.52 | G14: ='Matcha latte'!O19 -> 0.63316583 | H14: =D14*I14 -> 0.5265 | I14: =Paramètres!B1 -> 0.081 | J14: 50 | K14: =SUM(D14*J14) -> 325 | L14: =F14*J14 -> 126
A15: Matcha | B15: =Matcha!E11 -> 0.78 | C15: =B15+Paramètres!$B$5 -> 3.62 | D15: =Matcha!E16 -> 5 | E15: =D15*Paramètres!$B$2 -> 4.75 | F15: =Matcha!E17 -> 1.38 | G15: =Matcha!E18 -> 0.38121547 | H15: =D15*I15 -> 0.405 | I15: =Paramètres!B1 -> 0.081 | J15: 40 | K15: =SUM(D15*J15) -> 200 | L15: =F15*J15 -> 55.2
A16: Matcha | B16: =Matcha!J11 -> 0.897 | C16: =B16+Paramètres!$B$5 -> 3.737 | D16: =Matcha!J16 -> 6 | E16: =D16*Paramètres!$B$2 -> 5.7 | F16: =Matcha!J17 -> 2.263 | G16: =Matcha!J18 -> 0.60556596 | H16: =D16*I16 -> 0.486 | I16: =Paramètres!B1 -> 0.081 | J16: 80 | K16: =SUM(D16*J16) -> 480 | L16: =F16*J16 -> 181.04
A17: Matcha | B17: =Matcha!O11 -> 0.975 | C17: =B17+Paramètres!$B$5 -> 3.815 | D17: =Matcha!O16 -> 6.5 | E17: =D17*Paramètres!$B$2 -> 6.175 | F17: =Matcha!O17 -> 2.685 | G17: =Matcha!O18 -> 0.70380079 | H17: =D17*I17 -> 0.5265 | I17: =Paramètres!B1 -> 0.081 | J17: 40 | K17: =SUM(D17*J17) -> 260 | L17: =F17*J17 -> 107.4
A18: Moyenne | B18: =AVERAGE(B4:B15) -> 0.89391667 | C18: =AVERAGE(C4:C15) -> 3.7339167 | D18: =AVERAGE(D4:D15) -> 4.975 | E18: =AVERAGE(E4:E15) -> 4.72625 | F18: =AVERAGE(F4:F15) -> 1.2397917 | G18: =AVERAGE(G4:G15) -> 0.32689154 | H18: =AVERAGE(H4:H15) -> 0.402975 | J18: =AVERAGE(J4:J15) -> 266.66667
A19: Total par mois | J19: =SUM(J4:J15) -> 3200 | K19: =SUM(K4:K17) -> 14554 | L19: =SUM($L$4:$L$17) -> 2545.79
A20: facteur de developpement | J20: 0.08 | K20: =K19*$J$20 -> 1164.32 | L20: =L19*$J$20 -> 203.6632
A21: Marge a plus de 50 % | G21: =COUNTIF(G4:G17,">50%") -> 5
A22: Marge a moin de 50% | G22: =COUNTIF(G4:G17,"<50%") -> 9

Sheet Paramètres
A1: Taux de TVA | B1: 0.081
A2: Change euro | B2: 0.95
A3: date | B3: =TODAY() -> 45970
A4: Devise | B4: CHF
A5: Charge fixes | B5: ='Matières premières'!H50 -> 2.84
A6: charge sum up | B6: 1.2
A7: charge twint | B7: 1.4
B8: à
